BEGIN:VCALENDAR
VERSION:2.0
PRODID:icalendar-ruby
CALSCALE:GREGORIAN
METHOD:PUBLISH
BEGIN:VEVENT
DTSTAMP:20260420T025603Z
UID:11-1460903@stjames-umchurch.org
DTSTART:20260509T180000Z
DTEND:20260509T200000Z
CLASS:PUBLIC
CREATED:20260331T103531
DESCRIPTION:$12 per person. Call the church office 603-424-7459 for reserva
 tions.
LAST-MODIFIED:20260331T103531
LOCATION:Fellowship Hall
SUMMARY:Springtime Tea
URL;VALUE=URI:https://www.stjames-umchurch.org/events/springtime-tea/2026-0
 5-09
ATTACH;FILENAME=cup_29856c.jpg;FMTTYPE=image/jpeg:https://dq5pwpg1q8ru0.clo
 udfront.net/2026/01/22/16/16/20/188cfa97-7548-4b5c-826b-1c3c163edf95/cup_2
 9856c.jpg
END:VEVENT
END:VCALENDAR
