BEGIN:VCALENDAR
VERSION:2.0
PRODID:icalendar-ruby
CALSCALE:GREGORIAN
METHOD:PUBLISH
BEGIN:VEVENT
DTSTAMP:20260420T025333Z
UID:15-1460877@stjames-umchurch.org
DTSTART:20260419T133000Z
DTEND:20260419T143000Z
CLASS:PUBLIC
CREATED:20260321T185708
DESCRIPTION:
LAST-MODIFIED:20260321T185708
LOCATION:646 Daniel Webster Hwy
SUMMARY:Sunday Worship
URL;VALUE=URI:https://www.stjames-umchurch.org/events/sunday-worship/2026-0
 4-19
ATTACH;FILENAME=Church-12.jpg;FMTTYPE=image/jpeg:https://dq5pwpg1q8ru0.clou
 dfront.net/2026/03/21/22/57/07/0fa6dddf-268c-4200-81e2-fbce1b08592e/Church
 -12.jpg
END:VEVENT
END:VCALENDAR
