BEGIN:VCALENDAR
VERSION:2.0
PRODID:icalendar-ruby
CALSCALE:GREGORIAN
METHOD:PUBLISH
BEGIN:VEVENT
DTSTAMP:20260420T024416Z
UID:7-1460852@stjames-umchurch.org
DTSTART:20260425T140000Z
DTEND:20260425T150000Z
CLASS:PUBLIC
CREATED:20260218T114103
DESCRIPTION:
LAST-MODIFIED:20260218T114103
LOCATION:Fellowship Hall
SUMMARY:Tai-chi class
URL;VALUE=URI:https://www.stjames-umchurch.org/events/tai-chi-class/2026-04
 -25
ATTACH;FILENAME=tai-chi-vector.jpg;FMTTYPE=image/jpeg:https://dq5pwpg1q8ru0
 .cloudfront.net/2026/01/22/16/22/40/81335b82-7379-4aa5-ac4f-d9d9ca1ac682/t
 ai-chi-vector.jpg
END:VEVENT
END:VCALENDAR
